BEGIN:VCALENDAR
VERSION:2.0
PRODID:-//www.ketchikanarts.org//NONSGML kigkonsult.se iCalcreator 2.30.10/
 /
CALSCALE:GREGORIAN
METHOD:PUBLISH
UID:7115a45e-2dbd-4635-b9d9-316f9e0ea935
X-WR-CALDESC:
X-WR-RELCALID:a7fb3c81af022d71614d32d1faf64e8f
X-WR-TIMEZONE:America/Anchorage
BEGIN:VTIMEZONE
TZID:America/Anchorage
BEGIN:STANDARD
TZNAME:AKST
DTSTART:20241103T020000
TZOFFSETFROM:-0800
TZOFFSETTO:-0900
RDATE:20251102T020000
RDATE:20261101T020000
END:STANDARD
BEGIN:DAYLIGHT
TZNAME:AKDT
DTSTART:20250309T020000
TZOFFSETFROM:-0900
TZOFFSETTO:-0800
RDATE:20260308T020000
END:DAYLIGHT
END:VTIMEZONE
BEGIN:VEVENT
UID:7d52d29c-e297-4bb3-9017-4f20645a426b
DTSTAMP:20260422T185420Z
DESCRIPTION:
DTSTART;TZID=America/Anchorage:20250729T200000
DTEND;TZID=America/Anchorage:20250729T220000
LOCATION:Totem Bar
SUMMARY:Karaoke at the Totem Bar
END:VEVENT
END:VCALENDAR
