BEGIN:VCALENDAR
VERSION:2.0
PRODID:-//www.ketchikanarts.org//NONSGML kigkonsult.se iCalcreator 2.30.10/
 /
CALSCALE:GREGORIAN
METHOD:PUBLISH
UID:9d904d6c-ecd3-41d7-82f6-f4e6ebe5acd9
X-WR-CALDESC:
X-WR-RELCALID:525f9fd610dc32b9f03738cd56a13e4b
X-WR-TIMEZONE:America/Anchorage
BEGIN:VTIMEZONE
TZID:America/Anchorage
BEGIN:STANDARD
TZNAME:AKST
DTSTART:20241103T020000
TZOFFSETFROM:-0800
TZOFFSETTO:-0900
RDATE:20251102T020000
RDATE:20261101T020000
END:STANDARD
BEGIN:DAYLIGHT
TZNAME:AKDT
DTSTART:20250309T020000
TZOFFSETFROM:-0900
TZOFFSETTO:-0800
RDATE:20260308T020000
END:DAYLIGHT
END:VTIMEZONE
BEGIN:VEVENT
UID:d3d071b9-4dea-4127-815d-6c7003787a97
DTSTAMP:20260422T185135Z
DESCRIPTION:
DTSTART;TZID=America/Anchorage:20250729T180000
DTEND;TZID=America/Anchorage:20250729T210000
LOCATION:Hole in the Wall
SUMMARY:Open Mic - hosted by Rick Llyod
END:VEVENT
END:VCALENDAR
