BEGIN:VCALENDAR
VERSION:2.0
PRODID:-//www.ketchikanarts.org//NONSGML kigkonsult.se iCalcreator 2.30.10/
 /
CALSCALE:GREGORIAN
METHOD:PUBLISH
UID:5a91a44f-cc70-48da-a96b-57a4ce354359
X-WR-CALDESC:
X-WR-RELCALID:8c1342c2c96fdc91aefbb25102ed0c22
X-WR-TIMEZONE:America/Anchorage
BEGIN:VTIMEZONE
TZID:America/Anchorage
BEGIN:STANDARD
TZNAME:AKST
DTSTART:20241103T020000
TZOFFSETFROM:-0800
TZOFFSETTO:-0900
RDATE:20251102T020000
RDATE:20261101T020000
END:STANDARD
BEGIN:DAYLIGHT
TZNAME:AKDT
DTSTART:20250309T020000
TZOFFSETFROM:-0900
TZOFFSETTO:-0800
RDATE:20260308T020000
END:DAYLIGHT
END:VTIMEZONE
BEGIN:VEVENT
UID:71f25ad7-09f2-436b-a465-c1f0d5732fa7
DTSTAMP:20260422T184920Z
DESCRIPTION:
DTSTART;TZID=America/Anchorage:20250727T130000
DTEND;TZID=America/Anchorage:20250727T170000
LOCATION:156/160 Dog Salmon Road
SUMMARY:Open Workshop! - Cape Fox Cultural Foundation
END:VEVENT
END:VCALENDAR
