BEGIN:VCALENDAR
VERSION:2.0
PRODID:-//www.ketchikanarts.org//NONSGML kigkonsult.se iCalcreator 2.30.10/
 /
CALSCALE:GREGORIAN
METHOD:PUBLISH
UID:b633b833-1080-4251-9812-a020992732c1
X-WR-CALDESC:
X-WR-RELCALID:52b0ce3401def6a5fde35b20c64f2303
X-WR-TIMEZONE:America/Anchorage
BEGIN:VTIMEZONE
TZID:America/Anchorage
BEGIN:STANDARD
TZNAME:AKST
DTSTART:20241103T020000
TZOFFSETFROM:-0800
TZOFFSETTO:-0900
RDATE:20251102T020000
RDATE:20261101T020000
END:STANDARD
BEGIN:DAYLIGHT
TZNAME:AKDT
DTSTART:20250309T020000
TZOFFSETFROM:-0900
TZOFFSETTO:-0800
RDATE:20260308T020000
END:DAYLIGHT
END:VTIMEZONE
BEGIN:VEVENT
UID:00ee7f94-750d-4482-89fb-659aebe251c8
DTSTAMP:20260422T184426Z
DESCRIPTION:
DTSTART;TZID=America/Anchorage:20250726T130000
DTEND;TZID=America/Anchorage:20250726T170000
LOCATION:156/160 Dog Salmon Road
SUMMARY:Open Workshop! - Cape Fox Cultural Foundation
END:VEVENT
END:VCALENDAR
