BEGIN:VCALENDAR
VERSION:2.0
PRODID:-//www.ketchikanarts.org//NONSGML kigkonsult.se iCalcreator 2.30.10/
 /
CALSCALE:GREGORIAN
METHOD:PUBLISH
UID:3fa4bbfa-ae21-42b0-a67a-c3bc10499d43
X-WR-CALDESC:Celebrate Ketchikan's young performers!!!!
X-WR-RELCALID:5c8a7f14bb259647435be4bfb0b8a823
X-WR-TIMEZONE:America/Anchorage
BEGIN:VTIMEZONE
TZID:America/Anchorage
BEGIN:STANDARD
TZNAME:AKST
DTSTART:20241103T020000
TZOFFSETFROM:-0800
TZOFFSETTO:-0900
RDATE:20251102T020000
RDATE:20261101T020000
END:STANDARD
BEGIN:DAYLIGHT
TZNAME:AKDT
DTSTART:20250309T020000
TZOFFSETFROM:-0900
TZOFFSETTO:-0800
RDATE:20260308T020000
END:DAYLIGHT
END:VTIMEZONE
BEGIN:VEVENT
UID:73f75987-ed87-445e-ba8d-78b4640e51b8
DTSTAMP:20260422T185135Z
DESCRIPTION:Celebrate Ketchikan's young performers!!!!
DTSTART;TZID=America/Anchorage:20250725T193000
DTEND;TZID=America/Anchorage:20250725T210000
LOCATION:Kayhi Commons
SUMMARY:Junior ArtsCool Performs 'Seussical KIDS' - First City Players
END:VEVENT
END:VCALENDAR
