BEGIN:VCALENDAR
VERSION:2.0
PRODID:-//www.ketchikanarts.org//NONSGML kigkonsult.se iCalcreator 2.30.10/
 /
CALSCALE:GREGORIAN
METHOD:PUBLISH
UID:61855748-92d5-4ce0-8d1e-e1c0ba5564cb
X-WR-CALDESC:Enter your art to be displayed during the month of August in t
 he Blueberry Arts Festival Art Exhibit!!! KAAHC members submit for FREE! 
 \n\nThe exhibit will be on display August 1 through August 29. All mediums
  are accepted\, and work does not need to include blueberries. \n\nPlease 
 call or email with questions. \n\nA link to a fillable submission form is 
 below.
X-WR-RELCALID:a8228fbd4e6ad14b56a11de99c7757f6
X-WR-TIMEZONE:America/Anchorage
BEGIN:VTIMEZONE
TZID:America/Anchorage
BEGIN:STANDARD
TZNAME:AKST
DTSTART:20241103T020000
TZOFFSETFROM:-0800
TZOFFSETTO:-0900
RDATE:20251102T020000
RDATE:20261101T020000
END:STANDARD
BEGIN:DAYLIGHT
TZNAME:AKDT
DTSTART:20250309T020000
TZOFFSETFROM:-0900
TZOFFSETTO:-0800
RDATE:20260308T020000
END:DAYLIGHT
END:VTIMEZONE
BEGIN:VEVENT
UID:14fd49ba-8025-43bd-a0aa-9d170372a2bd
DTSTAMP:20260422T185545Z
DESCRIPTION:Enter your art to be displayed during the month of August in th
 e Blueberry Arts Festival Art Exhibit!!! KAAHC members submit for FREE! \n
 \nThe exhibit will be on display August 1 through August 29. All mediums a
 re accepted\, and work does not need to include blueberries. \n\nPlease ca
 ll or email with questions. \n\nA link to a fillable submission form is be
 low.
DTSTART;TZID=America/Anchorage:20250725T163000
DTEND;TZID=America/Anchorage:20250725T170000
LOCATION:Main Street Gallery - 330 Main Street
SUMMARY:Call to Artists - Blueberry Arts Festival Art Exhibit
END:VEVENT
END:VCALENDAR
