BEGIN:VCALENDAR
VERSION:2.0
PRODID:-//www.ketchikanarts.org//NONSGML kigkonsult.se iCalcreator 2.30.10/
 /
CALSCALE:GREGORIAN
METHOD:PUBLISH
UID:6c45a700-b101-4c0e-aa8b-c62f8f07f45a
X-WR-CALDESC:
X-WR-RELCALID:648b360ea277f548329863bf8a7170dc
X-WR-TIMEZONE:America/Anchorage
BEGIN:VTIMEZONE
TZID:America/Anchorage
BEGIN:STANDARD
TZNAME:AKST
DTSTART:20241103T020000
TZOFFSETFROM:-0800
TZOFFSETTO:-0900
RDATE:20251102T020000
RDATE:20261101T020000
END:STANDARD
BEGIN:DAYLIGHT
TZNAME:AKDT
DTSTART:20250309T020000
TZOFFSETFROM:-0900
TZOFFSETTO:-0800
RDATE:20260308T020000
END:DAYLIGHT
END:VTIMEZONE
BEGIN:VEVENT
UID:de769a67-8108-47e9-9c9f-f9bbaae82809
DTSTAMP:20260422T185432Z
DESCRIPTION:
DTSTART;TZID=America/Anchorage:20250724T180000
DTEND;TZID=America/Anchorage:20250724T200000
LOCATION:Eagle's Nest
SUMMARY:Live Music at the Eagles Nest
END:VEVENT
END:VCALENDAR
