BEGIN:VCALENDAR
VERSION:2.0
PRODID:-//www.ketchikanarts.org//NONSGML kigkonsult.se iCalcreator 2.30.10/
 /
CALSCALE:GREGORIAN
METHOD:PUBLISH
UID:2e50d5ac-9478-4bf6-a7eb-3fe6e38b34c2
X-WR-CALDESC:
X-WR-RELCALID:5c261b733cc0c5760a880cbf718a0c1a
X-WR-TIMEZONE:America/Anchorage
BEGIN:VTIMEZONE
TZID:America/Anchorage
BEGIN:STANDARD
TZNAME:AKST
DTSTART:20241103T020000
TZOFFSETFROM:-0800
TZOFFSETTO:-0900
RDATE:20251102T020000
RDATE:20261101T020000
END:STANDARD
BEGIN:DAYLIGHT
TZNAME:AKDT
DTSTART:20250309T020000
TZOFFSETFROM:-0900
TZOFFSETTO:-0800
RDATE:20260308T020000
END:DAYLIGHT
END:VTIMEZONE
BEGIN:VEVENT
UID:130feb6d-ea28-4156-bdef-9ad9f38e7a56
DTSTAMP:20260422T185421Z
DESCRIPTION:
DTSTART;TZID=America/Anchorage:20250722T200000
DTEND;TZID=America/Anchorage:20250722T220000
LOCATION:Totem Bar
SUMMARY:Karaoke at the Totem Bar
END:VEVENT
END:VCALENDAR
