BEGIN:VCALENDAR
VERSION:2.0
PRODID:-//www.ketchikanarts.org//NONSGML kigkonsult.se iCalcreator 2.30.10/
 /
CALSCALE:GREGORIAN
METHOD:PUBLISH
UID:871555d7-6e82-40d5-befc-99327bf71d54
X-WR-CALDESC:
X-WR-RELCALID:c15bac6423f0a3dba7c5f6f71bfe3a1e
X-WR-TIMEZONE:America/Anchorage
BEGIN:VTIMEZONE
TZID:America/Anchorage
BEGIN:STANDARD
TZNAME:AKST
DTSTART:20241103T020000
TZOFFSETFROM:-0800
TZOFFSETTO:-0900
RDATE:20251102T020000
RDATE:20261101T020000
END:STANDARD
BEGIN:DAYLIGHT
TZNAME:AKDT
DTSTART:20250309T020000
TZOFFSETFROM:-0900
TZOFFSETTO:-0800
RDATE:20260308T020000
END:DAYLIGHT
END:VTIMEZONE
BEGIN:VEVENT
UID:d86785d9-43a1-4606-b384-a11d5c1ba0d2
DTSTAMP:20260422T185141Z
DESCRIPTION:
DTSTART;TZID=America/Anchorage:20250722T180000
DTEND;TZID=America/Anchorage:20250722T210000
LOCATION:Hole in the Wall
SUMMARY:Open Mic - hosted by Rick Llyod
END:VEVENT
END:VCALENDAR
