BEGIN:VCALENDAR
VERSION:2.0
PRODID:-//www.ketchikanarts.org//NONSGML kigkonsult.se iCalcreator 2.30.10/
 /
CALSCALE:GREGORIAN
METHOD:PUBLISH
UID:3833e401-79e1-4d11-a183-65865ce1a41d
X-WR-CALDESC:An opportunity to view the works of local resident artists\, a
 nd support them!
X-WR-RELCALID:57f3388c0d0ad764a2d84eefe2e7bb93
X-WR-TIMEZONE:America/Anchorage
BEGIN:VTIMEZONE
TZID:America/Anchorage
BEGIN:STANDARD
TZNAME:AKST
DTSTART:20241103T020000
TZOFFSETFROM:-0800
TZOFFSETTO:-0900
RDATE:20251102T020000
RDATE:20261101T020000
END:STANDARD
BEGIN:DAYLIGHT
TZNAME:AKDT
DTSTART:20250309T020000
TZOFFSETFROM:-0900
TZOFFSETTO:-0800
RDATE:20260308T020000
END:DAYLIGHT
END:VTIMEZONE
BEGIN:VEVENT
UID:1d7fcbd5-3db0-4d81-8b92-670b60a9e43c
DTSTAMP:20260422T183209Z
DESCRIPTION:An opportunity to view the works of local resident artists\, an
 d support them!
DTSTART;TZID=America/Anchorage:20250720T100000
DTEND;TZID=America/Anchorage:20250720T140000
LOCATION:125 Main Street
SUMMARY:[Insert Art] - Open Studio
END:VEVENT
END:VCALENDAR
