BEGIN:VCALENDAR
VERSION:2.0
PRODID:-//www.ketchikanarts.org//NONSGML kigkonsult.se iCalcreator 2.30.10/
 /
CALSCALE:GREGORIAN
METHOD:PUBLISH
UID:f4a04b54-d047-4779-966e-91d4ee7d61b6
X-WR-CALDESC:Flat stitch beading workshop teaching how to make an exquisite
  small pin. \n$60 with all materials provided\, and the design will be blu
 eberry themed!\n\n10 spots available! So you better reserve a ticket now\,
  while you still got a chance.\n
X-WR-RELCALID:c1b20b51e0fb4b80d0a8894f6bde20b8
X-WR-TIMEZONE:America/Anchorage
BEGIN:VTIMEZONE
TZID:America/Anchorage
BEGIN:STANDARD
TZNAME:AKST
DTSTART:20241103T020000
TZOFFSETFROM:-0800
TZOFFSETTO:-0900
RDATE:20251102T020000
RDATE:20261101T020000
END:STANDARD
BEGIN:DAYLIGHT
TZNAME:AKDT
DTSTART:20250309T020000
TZOFFSETFROM:-0900
TZOFFSETTO:-0800
RDATE:20260308T020000
END:DAYLIGHT
END:VTIMEZONE
BEGIN:VEVENT
UID:0fdb39ef-f5b9-494e-a41e-8363943ad169
DTSTAMP:20260422T184920Z
DESCRIPTION:Flat stitch beading workshop teaching how to make an exquisite 
 small pin. \n$60 with all materials provided\, and the design will be blue
 berry themed!\n\n10 spots available! So you better reserve a ticket now\, 
 while you still got a chance.\n
DTSTART;TZID=America/Anchorage:20250719T143000
DTEND;TZID=America/Anchorage:20250719T160000
LOCATION:125 Main Street
SUMMARY:[Insert Art] - Beading Workshop
END:VEVENT
END:VCALENDAR
