BEGIN:VCALENDAR
VERSION:2.0
PRODID:-//www.ketchikanarts.org//NONSGML kigkonsult.se iCalcreator 2.30.10/
 /
CALSCALE:GREGORIAN
METHOD:PUBLISH
UID:bc7454a0-252a-4465-814f-642c7492c5fa
X-WR-CALDESC:
X-WR-RELCALID:08d3d8f475a9ff396fa1f5b3d7d32488
X-WR-TIMEZONE:America/Anchorage
BEGIN:VTIMEZONE
TZID:America/Anchorage
BEGIN:STANDARD
TZNAME:AKST
DTSTART:20241103T020000
TZOFFSETFROM:-0800
TZOFFSETTO:-0900
RDATE:20251102T020000
RDATE:20261101T020000
END:STANDARD
BEGIN:DAYLIGHT
TZNAME:AKDT
DTSTART:20250309T020000
TZOFFSETFROM:-0900
TZOFFSETTO:-0800
RDATE:20260308T020000
END:DAYLIGHT
END:VTIMEZONE
BEGIN:VEVENT
UID:8073e617-4df2-4801-a80f-7c4d04979ede
DTSTAMP:20260422T185212Z
DESCRIPTION:
DTSTART;TZID=America/Anchorage:20250718T210000
DTEND;TZID=America/Anchorage:20250718T230000
LOCATION:Arctic Bar
SUMMARY:Pop Up Pride Bar - Ketchikan Pride Alliance
END:VEVENT
END:VCALENDAR
