BEGIN:VCALENDAR
VERSION:2.0
PRODID:-//www.ketchikanarts.org//NONSGML kigkonsult.se iCalcreator 2.30.10/
 /
CALSCALE:GREGORIAN
METHOD:PUBLISH
UID:52f7ffe8-df40-415a-8cae-0dd4c004e930
X-WR-CALDESC:
X-WR-RELCALID:e63acde7e343d02f864913a12fb008df
X-WR-TIMEZONE:America/Anchorage
BEGIN:VTIMEZONE
TZID:America/Anchorage
BEGIN:STANDARD
TZNAME:AKST
DTSTART:20241103T020000
TZOFFSETFROM:-0800
TZOFFSETTO:-0900
RDATE:20251102T020000
RDATE:20261101T020000
END:STANDARD
BEGIN:DAYLIGHT
TZNAME:AKDT
DTSTART:20250309T020000
TZOFFSETFROM:-0900
TZOFFSETTO:-0800
RDATE:20260308T020000
END:DAYLIGHT
END:VTIMEZONE
BEGIN:VEVENT
UID:fd782745-06dc-4617-b4bf-5d66705dfc2e
DTSTAMP:20260422T184533Z
DESCRIPTION:
DTSTART;TZID=America/Anchorage:20250715T120000
DTEND;TZID=America/Anchorage:20250715T140000
LOCATION:Creek Street Cabaret
SUMMARY:Jingle Jangle Performance
END:VEVENT
END:VCALENDAR
