BEGIN:VCALENDAR
VERSION:2.0
PRODID:-//www.ketchikanarts.org//NONSGML kigkonsult.se iCalcreator 2.30.10/
 /
CALSCALE:GREGORIAN
METHOD:PUBLISH
UID:e9b777bd-b1c5-4bfd-9135-114a6ffdab2b
X-WR-CALDESC:
X-WR-RELCALID:91d528f9a5a201a6da6d86f9837b045b
X-WR-TIMEZONE:America/Anchorage
BEGIN:VTIMEZONE
TZID:America/Anchorage
BEGIN:STANDARD
TZNAME:AKST
DTSTART:20241103T020000
TZOFFSETFROM:-0800
TZOFFSETTO:-0900
RDATE:20251102T020000
RDATE:20261101T020000
END:STANDARD
BEGIN:DAYLIGHT
TZNAME:AKDT
DTSTART:20250309T020000
TZOFFSETFROM:-0900
TZOFFSETTO:-0800
RDATE:20260308T020000
END:DAYLIGHT
END:VTIMEZONE
BEGIN:VEVENT
UID:5925e823-76be-4df3-9ffc-e096ef8c571b
DTSTAMP:20260422T185433Z
DESCRIPTION:
DTSTART;TZID=America/Anchorage:20250715T200000
DTEND;TZID=America/Anchorage:20250715T220000
LOCATION:Totem Bar
SUMMARY:Karaoke at the Totem Bar
END:VEVENT
END:VCALENDAR
