BEGIN:VCALENDAR
VERSION:2.0
PRODID:-//www.ketchikanarts.org//NONSGML kigkonsult.se iCalcreator 2.30.10/
 /
CALSCALE:GREGORIAN
METHOD:PUBLISH
UID:d66a4413-5060-4583-8487-5fa8446082cd
X-WR-CALDESC:An opportunity to view the works of local resident artists\, a
 nd support them!
X-WR-RELCALID:fe8d09fb4158fb2fc63c9e44d861c9e7
X-WR-TIMEZONE:America/Anchorage
BEGIN:VTIMEZONE
TZID:America/Anchorage
BEGIN:STANDARD
TZNAME:AKST
DTSTART:20241103T020000
TZOFFSETFROM:-0800
TZOFFSETTO:-0900
RDATE:20251102T020000
RDATE:20261101T020000
END:STANDARD
BEGIN:DAYLIGHT
TZNAME:AKDT
DTSTART:20250309T020000
TZOFFSETFROM:-0900
TZOFFSETTO:-0800
RDATE:20260308T020000
END:DAYLIGHT
END:VTIMEZONE
BEGIN:VEVENT
UID:6e0d2e1e-5882-4ad7-b43c-197cbd1dc1a6
DTSTAMP:20260422T184859Z
DESCRIPTION:An opportunity to view the works of local resident artists\, an
 d support them!
DTSTART;TZID=America/Anchorage:20250713T100000
DTEND;TZID=America/Anchorage:20250713T140000
LOCATION:125 Main Street
SUMMARY:[Insert Art] - Open Studio
END:VEVENT
END:VCALENDAR
