BEGIN:VCALENDAR
VERSION:2.0
PRODID:-//www.ketchikanarts.org//NONSGML kigkonsult.se iCalcreator 2.30.10/
 /
CALSCALE:GREGORIAN
METHOD:PUBLISH
UID:270d4c3b-8103-49fc-9968-219fe34a770a
X-WR-CALDESC:A forbidden experience
X-WR-RELCALID:0b14ff89f0883c8fa60a77a26281a4c9
X-WR-TIMEZONE:America/Anchorage
BEGIN:VTIMEZONE
TZID:America/Anchorage
BEGIN:STANDARD
TZNAME:AKST
DTSTART:20241103T020000
TZOFFSETFROM:-0800
TZOFFSETTO:-0900
RDATE:20251102T020000
RDATE:20261101T020000
END:STANDARD
BEGIN:DAYLIGHT
TZNAME:AKDT
DTSTART:20250309T020000
TZOFFSETFROM:-0900
TZOFFSETTO:-0800
RDATE:20260308T020000
END:DAYLIGHT
END:VTIMEZONE
BEGIN:VEVENT
UID:0cd15cd1-0065-4fee-a539-d319f29c4dab
DTSTAMP:20260422T185015Z
DESCRIPTION:A forbidden experience
DTSTART;TZID=America/Anchorage:20250712T190000
DTEND;TZID=America/Anchorage:20250712T210000
LOCATION:319 Dock St - Alaska Legends
SUMMARY:The Red Lantern presents: Forbidden Fruit
END:VEVENT
END:VCALENDAR
