BEGIN:VCALENDAR
VERSION:2.0
PRODID:-//www.ketchikanarts.org//NONSGML kigkonsult.se iCalcreator 2.30.10/
 /
CALSCALE:GREGORIAN
METHOD:PUBLISH
UID:dc3a9eed-99ef-430c-aa4f-6177714b8967
X-WR-CALDESC:
X-WR-RELCALID:17dac2c50404082d53f1e357805db682
X-WR-TIMEZONE:America/Anchorage
BEGIN:VTIMEZONE
TZID:America/Anchorage
BEGIN:STANDARD
TZNAME:AKST
DTSTART:20241103T020000
TZOFFSETFROM:-0800
TZOFFSETTO:-0900
RDATE:20251102T020000
RDATE:20261101T020000
END:STANDARD
BEGIN:DAYLIGHT
TZNAME:AKDT
DTSTART:20250309T020000
TZOFFSETFROM:-0900
TZOFFSETTO:-0800
RDATE:20260308T020000
END:DAYLIGHT
END:VTIMEZONE
BEGIN:VEVENT
UID:c863575c-6ce2-468c-b9dd-4e94780ead72
DTSTAMP:20260422T185017Z
DESCRIPTION:
DTSTART;TZID=America/Anchorage:20250712T183000
DTEND;TZID=America/Anchorage:20250712T203000
LOCATION:Holy Name Parish Hall - 433 Jackson Street
SUMMARY:Holy Name Karaoke Contest
END:VEVENT
END:VCALENDAR
