BEGIN:VCALENDAR
VERSION:2.0
PRODID:-//www.ketchikanarts.org//NONSGML kigkonsult.se iCalcreator 2.30.10/
 /
CALSCALE:GREGORIAN
METHOD:PUBLISH
UID:7b7c31ed-b086-479b-b5b3-6040160a577f
X-WR-CALDESC:$5 at the door - All are welcome!!!
X-WR-RELCALID:dc00878b0a8ee60a735f7d7214f57047
X-WR-TIMEZONE:America/Anchorage
BEGIN:VTIMEZONE
TZID:America/Anchorage
BEGIN:STANDARD
TZNAME:AKST
DTSTART:20241103T020000
TZOFFSETFROM:-0800
TZOFFSETTO:-0900
RDATE:20251102T020000
RDATE:20261101T020000
END:STANDARD
BEGIN:DAYLIGHT
TZNAME:AKDT
DTSTART:20250309T020000
TZOFFSETFROM:-0900
TZOFFSETTO:-0800
RDATE:20260308T020000
END:DAYLIGHT
END:VTIMEZONE
BEGIN:VEVENT
UID:d7a27744-8237-4583-964c-a6139c65d85e
DTSTAMP:20260422T183933Z
DESCRIPTION:$5 at the door - All are welcome!!!
DTSTART;TZID=America/Anchorage:20250711T190000
DTEND;TZID=America/Anchorage:20250711T210000
LOCATION:Creek Street Cabaret
SUMMARY:Square Dance!!!
END:VEVENT
END:VCALENDAR
