BEGIN:VCALENDAR
VERSION:2.0
PRODID:-//www.ketchikanarts.org//NONSGML kigkonsult.se iCalcreator 2.30.10/
 /
CALSCALE:GREGORIAN
METHOD:PUBLISH
UID:a77214b1-207e-45fb-b251-daaf8be45ec0
X-WR-CALDESC:A forbidden experience
X-WR-RELCALID:27e4d9284bced1004840803c2f440dcc
X-WR-TIMEZONE:America/Anchorage
BEGIN:VTIMEZONE
TZID:America/Anchorage
BEGIN:STANDARD
TZNAME:AKST
DTSTART:20241103T020000
TZOFFSETFROM:-0800
TZOFFSETTO:-0900
RDATE:20251102T020000
RDATE:20261101T020000
END:STANDARD
BEGIN:DAYLIGHT
TZNAME:AKDT
DTSTART:20250309T020000
TZOFFSETFROM:-0900
TZOFFSETTO:-0800
RDATE:20260308T020000
END:DAYLIGHT
END:VTIMEZONE
BEGIN:VEVENT
UID:e94481d4-6a78-4f3e-8d82-0352d902334b
DTSTAMP:20260422T185043Z
DESCRIPTION:A forbidden experience
DTSTART;TZID=America/Anchorage:20250710T190000
DTEND;TZID=America/Anchorage:20250710T210000
LOCATION:319 Dock St - Alaska Legends
SUMMARY:The Red Lantern presents: Forbidden Fruit
END:VEVENT
END:VCALENDAR
