BEGIN:VCALENDAR
VERSION:2.0
PRODID:-//www.ketchikanarts.org//NONSGML kigkonsult.se iCalcreator 2.30.10/
 /
CALSCALE:GREGORIAN
METHOD:PUBLISH
UID:e4444711-4c09-41fb-befd-0eb95241aeda
X-WR-CALDESC:Join Summer SLAM in its New Location at the Alaska Legends Cid
 er & Wine on Dock Street. \n\nThe theme for July is....'Reverse!'\n\n$3 at
  the door.
X-WR-RELCALID:4d29703fd5ccc3228ec69f25b21c14af
X-WR-TIMEZONE:America/Anchorage
BEGIN:VTIMEZONE
TZID:America/Anchorage
BEGIN:STANDARD
TZNAME:AKST
DTSTART:20241103T020000
TZOFFSETFROM:-0800
TZOFFSETTO:-0900
RDATE:20251102T020000
RDATE:20261101T020000
END:STANDARD
BEGIN:DAYLIGHT
TZNAME:AKDT
DTSTART:20250309T020000
TZOFFSETFROM:-0900
TZOFFSETTO:-0800
RDATE:20260308T020000
END:DAYLIGHT
END:VTIMEZONE
BEGIN:VEVENT
UID:4df57008-f045-420e-9154-8a3f2513e4a5
DTSTAMP:20260422T184150Z
DESCRIPTION:Join Summer SLAM in its New Location at the Alaska Legends Cide
 r & Wine on Dock Street. \n\nThe theme for July is....'Reverse!'\n\n$3 at 
 the door.
DTSTART;TZID=America/Anchorage:20250708T190000
DTEND;TZID=America/Anchorage:20250708T210000
LOCATION:*NEW LOCATION* Alaska Legends Cider & Wine
SUMMARY:Summer SLAM!
END:VEVENT
END:VCALENDAR
