BEGIN:VCALENDAR
VERSION:2.0
PRODID:-//www.ketchikanarts.org//NONSGML kigkonsult.se iCalcreator 2.30.10/
 /
CALSCALE:GREGORIAN
METHOD:PUBLISH
UID:082208d3-a6cf-4ee3-afeb-5f2db2cf36bc
X-WR-CALDESC:
X-WR-RELCALID:817498d004ac2f13e5dcc6b6e528a65e
X-WR-TIMEZONE:America/Anchorage
BEGIN:VTIMEZONE
TZID:America/Anchorage
BEGIN:STANDARD
TZNAME:AKST
DTSTART:20241103T020000
TZOFFSETFROM:-0800
TZOFFSETTO:-0900
RDATE:20251102T020000
RDATE:20261101T020000
END:STANDARD
BEGIN:DAYLIGHT
TZNAME:AKDT
DTSTART:20250309T020000
TZOFFSETFROM:-0900
TZOFFSETTO:-0800
RDATE:20260308T020000
END:DAYLIGHT
END:VTIMEZONE
BEGIN:VEVENT
UID:25c1bac9-98c1-44c7-985b-dae9f2975a4a
DTSTAMP:20260422T184918Z
DESCRIPTION:
DTSTART;TZID=America/Anchorage:20250705T130000
DTEND;TZID=America/Anchorage:20250705T163000
LOCATION:Asylum
SUMMARY:Super Jam hosted by Joel Forlines
END:VEVENT
END:VCALENDAR
