BEGIN:VCALENDAR
VERSION:2.0
PRODID:-//www.ketchikanarts.org//NONSGML kigkonsult.se iCalcreator 2.30.10/
 /
CALSCALE:GREGORIAN
METHOD:PUBLISH
UID:76420ea6-fe48-45c0-b8cb-0df60565e9b7
X-WR-CALDESC:
X-WR-RELCALID:6d9459be79417a73850a52c837d50f4e
X-WR-TIMEZONE:America/Anchorage
BEGIN:VTIMEZONE
TZID:America/Anchorage
BEGIN:STANDARD
TZNAME:AKST
DTSTART:20241103T020000
TZOFFSETFROM:-0800
TZOFFSETTO:-0900
RDATE:20251102T020000
RDATE:20261101T020000
END:STANDARD
BEGIN:DAYLIGHT
TZNAME:AKDT
DTSTART:20250309T020000
TZOFFSETFROM:-0900
TZOFFSETTO:-0800
RDATE:20260308T020000
END:DAYLIGHT
END:VTIMEZONE
BEGIN:VEVENT
UID:f79879a1-70f6-4e6f-97fc-de591a762552
DTSTAMP:20260422T185305Z
DESCRIPTION:
DTSTART;TZID=America/Anchorage:20250705T200000
DTEND;TZID=America/Anchorage:20250705T235900
LOCATION:Asylum
SUMMARY:Dude Mountain with Orbe and the Sungazers
END:VEVENT
END:VCALENDAR
