BEGIN:VCALENDAR
VERSION:2.0
PRODID:-//www.ketchikanarts.org//NONSGML kigkonsult.se iCalcreator 2.30.10/
 /
CALSCALE:GREGORIAN
METHOD:PUBLISH
UID:29a481c1-8bae-4bdd-80f3-56207fef4132
X-WR-CALDESC:
X-WR-RELCALID:3e37290841ae59c38773f89236dc969b
X-WR-TIMEZONE:America/Anchorage
BEGIN:VTIMEZONE
TZID:America/Anchorage
BEGIN:STANDARD
TZNAME:AKST
DTSTART:20241103T020000
TZOFFSETFROM:-0800
TZOFFSETTO:-0900
RDATE:20251102T020000
RDATE:20261101T020000
END:STANDARD
BEGIN:DAYLIGHT
TZNAME:AKDT
DTSTART:20250309T020000
TZOFFSETFROM:-0900
TZOFFSETTO:-0800
RDATE:20260308T020000
END:DAYLIGHT
END:VTIMEZONE
BEGIN:VEVENT
UID:2a0039cf-874f-4816-a6db-900dc40ce40b
DTSTAMP:20260422T185257Z
DESCRIPTION:
DTSTART;TZID=America/Anchorage:20250704T200000
DTEND;TZID=America/Anchorage:20250704T235900
LOCATION:Sourdough Bar
SUMMARY:Dude Mountain with Orbe and the Sungazers
END:VEVENT
END:VCALENDAR
