BEGIN:VCALENDAR
VERSION:2.0
PRODID:-//www.ketchikanarts.org//NONSGML kigkonsult.se iCalcreator 2.30.10/
 /
CALSCALE:GREGORIAN
METHOD:PUBLISH
UID:05693062-d8bb-424f-b811-ed269b2d5159
X-WR-CALDESC:
X-WR-RELCALID:7461798bb0a876390352ef74cad163d2
X-WR-TIMEZONE:America/Anchorage
BEGIN:VTIMEZONE
TZID:America/Anchorage
BEGIN:STANDARD
TZNAME:AKST
DTSTART:20241103T020000
TZOFFSETFROM:-0800
TZOFFSETTO:-0900
RDATE:20251102T020000
RDATE:20261101T020000
END:STANDARD
BEGIN:DAYLIGHT
TZNAME:AKDT
DTSTART:20250309T020000
TZOFFSETFROM:-0900
TZOFFSETTO:-0800
RDATE:20260308T020000
END:DAYLIGHT
END:VTIMEZONE
BEGIN:VEVENT
UID:464d8aaa-c750-4e07-bf89-06498570384a
DTSTAMP:20260422T185223Z
DESCRIPTION:
DTSTART;TZID=America/Anchorage:20250703T200000
DTEND;TZID=America/Anchorage:20250703T233000
LOCATION:Sourdough Bar
SUMMARY:Dude Mountain with Orbe & the Sungazers
END:VEVENT
END:VCALENDAR
