BEGIN:VCALENDAR
VERSION:2.0
PRODID:-//www.ketchikanarts.org//NONSGML kigkonsult.se iCalcreator 2.30.10/
 /
CALSCALE:GREGORIAN
METHOD:PUBLISH
UID:d59bf243-6f93-43b0-95de-d66c32ff348e
X-WR-CALDESC:
X-WR-RELCALID:1d11a5b8f85a99fcc5aadccbafc82260
X-WR-TIMEZONE:America/Anchorage
BEGIN:VTIMEZONE
TZID:America/Anchorage
BEGIN:STANDARD
TZNAME:AKST
DTSTART:20241103T020000
TZOFFSETFROM:-0800
TZOFFSETTO:-0900
RDATE:20251102T020000
RDATE:20261101T020000
END:STANDARD
BEGIN:DAYLIGHT
TZNAME:AKDT
DTSTART:20250309T020000
TZOFFSETFROM:-0900
TZOFFSETTO:-0800
RDATE:20260308T020000
END:DAYLIGHT
END:VTIMEZONE
BEGIN:VEVENT
UID:9fe8d1f5-6502-47bb-9a19-f117e9a5aa7d
DTSTAMP:20260422T185510Z
DESCRIPTION:
DTSTART;TZID=America/Anchorage:20250703T180000
DTEND;TZID=America/Anchorage:20250703T200000
LOCATION:Eagle's Nest
SUMMARY:Live Music at the Eagles Nest
END:VEVENT
END:VCALENDAR
