BEGIN:VCALENDAR
VERSION:2.0
PRODID:-//www.ketchikanarts.org//NONSGML kigkonsult.se iCalcreator 2.30.10/
 /
CALSCALE:GREGORIAN
METHOD:PUBLISH
UID:b8e51a16-e1a7-4143-a657-254384a1ddbf
X-WR-CALDESC:Come down and check out the space\, see some artwork\, and cha
 t with an artist!!!
X-WR-RELCALID:a2ed6c52176b4e17adbf3200263ef253
X-WR-TIMEZONE:America/Anchorage
BEGIN:VTIMEZONE
TZID:America/Anchorage
BEGIN:STANDARD
TZNAME:AKST
DTSTART:20241103T020000
TZOFFSETFROM:-0800
TZOFFSETTO:-0900
RDATE:20251102T020000
RDATE:20261101T020000
END:STANDARD
BEGIN:DAYLIGHT
TZNAME:AKDT
DTSTART:20250309T020000
TZOFFSETFROM:-0900
TZOFFSETTO:-0800
RDATE:20260308T020000
END:DAYLIGHT
END:VTIMEZONE
BEGIN:VEVENT
UID:7d8ad949-944d-40a6-994a-9f8258ce8785
DTSTAMP:20260422T200310Z
DESCRIPTION:Come down and check out the space\, see some artwork\, and chat
  with an artist!!!
DTSTART;TZID=America/Anchorage:20250629T100000
DTEND;TZID=America/Anchorage:20250629T140000
LOCATION:[INSERT ART] @ 125 Main Street
SUMMARY:[INSERT ART] Open Studio
END:VEVENT
END:VCALENDAR
