BEGIN:VCALENDAR
VERSION:2.0
PRODID:-//www.ketchikanarts.org//NONSGML kigkonsult.se iCalcreator 2.30.10/
 /
CALSCALE:GREGORIAN
METHOD:PUBLISH
UID:907c9bef-5412-4d42-a187-80a756c5a4e9
X-WR-CALDESC:The Grip of Non Existence. Opening set by Shea Warren. $5 or P
 ay-What-You-Can
X-WR-RELCALID:d2662ad035ec90e3ba65e0f7200113c5
X-WR-TIMEZONE:America/Anchorage
BEGIN:VTIMEZONE
TZID:America/Anchorage
BEGIN:STANDARD
TZNAME:AKST
DTSTART:20241103T020000
TZOFFSETFROM:-0800
TZOFFSETTO:-0900
RDATE:20251102T020000
RDATE:20261101T020000
END:STANDARD
BEGIN:DAYLIGHT
TZNAME:AKDT
DTSTART:20250309T020000
TZOFFSETFROM:-0900
TZOFFSETTO:-0800
RDATE:20260308T020000
END:DAYLIGHT
END:VTIMEZONE
BEGIN:VEVENT
UID:6f8f63a2-b334-4e9b-aa45-e9e6dfc5102e
DTSTAMP:20260422T200738Z
DESCRIPTION:The Grip of Non Existence. Opening set by Shea Warren. $5 or Pa
 y-What-You-Can
DTSTART;TZID=America/Anchorage:20250627T190000
DTEND;TZID=America/Anchorage:20250627T210000
LOCATION:#5 Creek St. The Star Gallery
SUMMARY:Drrtgrrl Debut Album Release Party
END:VEVENT
END:VCALENDAR
