BEGIN:VCALENDAR
VERSION:2.0
PRODID:-//www.ketchikanarts.org//NONSGML kigkonsult.se iCalcreator 2.30.10/
 /
CALSCALE:GREGORIAN
METHOD:PUBLISH
UID:3821725e-ccab-4853-b8ff-4d2f7f24f58d
X-WR-CALDESC:
X-WR-RELCALID:11e90d690d61a71a8ac1b2ff7ca933eb
X-WR-TIMEZONE:America/Anchorage
BEGIN:VTIMEZONE
TZID:America/Anchorage
BEGIN:STANDARD
TZNAME:AKST
DTSTART:20241103T020000
TZOFFSETFROM:-0800
TZOFFSETTO:-0900
RDATE:20251102T020000
RDATE:20261101T020000
END:STANDARD
BEGIN:DAYLIGHT
TZNAME:AKDT
DTSTART:20250309T020000
TZOFFSETFROM:-0900
TZOFFSETTO:-0800
RDATE:20260308T020000
END:DAYLIGHT
END:VTIMEZONE
BEGIN:VEVENT
UID:00358ab7-c11f-4ed3-b081-54875ee0c666
DTSTAMP:20260422T200852Z
DESCRIPTION:
DTSTART;TZID=America/Anchorage:20250626T170000
DTEND;TZID=America/Anchorage:20250626T180000
LOCATION:Alaska Legends Cider & Wine
SUMMARY:Queer Social Hour
END:VEVENT
END:VCALENDAR
