BEGIN:VCALENDAR
VERSION:2.0
PRODID:-//www.ketchikanarts.org//NONSGML kigkonsult.se iCalcreator 2.30.10/
 /
CALSCALE:GREGORIAN
METHOD:PUBLISH
UID:18beb6e8-5967-4fc7-8b4c-cb77a849a1f2
X-WR-CALDESC:Join the Andiamo Dance Company in their annual performance!!! 
 More information will be available as we get closer to the event!
X-WR-RELCALID:be73756abbb4b2704a36fc859d27fcf4
X-WR-TIMEZONE:America/Anchorage
BEGIN:VTIMEZONE
TZID:America/Anchorage
BEGIN:STANDARD
TZNAME:AKST
DTSTART:20241103T020000
TZOFFSETFROM:-0800
TZOFFSETTO:-0900
RDATE:20251102T020000
RDATE:20261101T020000
END:STANDARD
BEGIN:DAYLIGHT
TZNAME:AKDT
DTSTART:20250309T020000
TZOFFSETFROM:-0900
TZOFFSETTO:-0800
RDATE:20260308T020000
END:DAYLIGHT
END:VTIMEZONE
BEGIN:VEVENT
UID:1a026006-1c9a-4e10-a525-d70d59061d4a
DTSTAMP:20260422T200816Z
DESCRIPTION:Join the Andiamo Dance Company in their annual performance!!! M
 ore information will be available as we get closer to the event!
DTSTART;TZID=America/Anchorage:20250620T190000
DTEND;TZID=America/Anchorage:20250620T210000
LOCATION:Kayhi Auditorium
SUMMARY:Andiamo Dance Company Performance
END:VEVENT
END:VCALENDAR
