BEGIN:VCALENDAR
VERSION:2.0
PRODID:-//www.ketchikanarts.org//NONSGML kigkonsult.se iCalcreator 2.30.10/
 /
CALSCALE:GREGORIAN
METHOD:PUBLISH
UID:04a56f99-e7ce-4727-b318-8d90ccbb5c9a
X-WR-CALDESC:Come down and check out the space\, see some artwork\, and cha
 t with an artist!!!
X-WR-RELCALID:77685047339dcdd0c26d65f40766b3ee
X-WR-TIMEZONE:America/Anchorage
BEGIN:VTIMEZONE
TZID:America/Anchorage
BEGIN:STANDARD
TZNAME:AKST
DTSTART:20241103T020000
TZOFFSETFROM:-0800
TZOFFSETTO:-0900
RDATE:20251102T020000
RDATE:20261101T020000
END:STANDARD
BEGIN:DAYLIGHT
TZNAME:AKDT
DTSTART:20250309T020000
TZOFFSETFROM:-0900
TZOFFSETTO:-0800
RDATE:20260308T020000
END:DAYLIGHT
END:VTIMEZONE
BEGIN:VEVENT
UID:c4c0a2b8-9129-4a70-978d-13ee93edc38f
DTSTAMP:20260422T200317Z
DESCRIPTION:Come down and check out the space\, see some artwork\, and chat
  with an artist!!!
DTSTART;TZID=America/Anchorage:20250619T100000
DTEND;TZID=America/Anchorage:20250619T140000
LOCATION:[INSERT ART] @ 125 Main Street
SUMMARY:[INSERT ART] Open Studio
END:VEVENT
END:VCALENDAR
