BEGIN:VCALENDAR
VERSION:2.0
PRODID:-//www.ketchikanarts.org//NONSGML kigkonsult.se iCalcreator 2.30.10/
 /
CALSCALE:GREGORIAN
METHOD:PUBLISH
UID:233d1a5e-e548-4f59-a605-1d92ff94aeb1
X-WR-CALDESC:
X-WR-RELCALID:a7f319c9084686415e3bb0fcfd1cd58d
X-WR-TIMEZONE:America/Anchorage
BEGIN:VTIMEZONE
TZID:America/Anchorage
BEGIN:STANDARD
TZNAME:AKST
DTSTART:20241103T020000
TZOFFSETFROM:-0800
TZOFFSETTO:-0900
RDATE:20251102T020000
RDATE:20261101T020000
END:STANDARD
BEGIN:DAYLIGHT
TZNAME:AKDT
DTSTART:20250309T020000
TZOFFSETFROM:-0900
TZOFFSETTO:-0800
RDATE:20260308T020000
END:DAYLIGHT
END:VTIMEZONE
BEGIN:VEVENT
UID:9a7b5cd7-f3ca-499a-808d-0aad441b4849
DTSTAMP:20260424T100928Z
DESCRIPTION:
DTSTART;TZID=America/Anchorage:20250614T130000
DTEND;TZID=America/Anchorage:20250614T143000
LOCATION:10984 N Tongass Hwy
SUMMARY:Torah Zamora Pop-Up Show
END:VEVENT
END:VCALENDAR
