BEGIN:VCALENDAR
VERSION:2.0
PRODID:-//www.ketchikanarts.org//NONSGML kigkonsult.se iCalcreator 2.30.10/
 /
CALSCALE:GREGORIAN
METHOD:PUBLISH
UID:4edd45ab-3160-4714-b4cc-6a78558a9df8
X-WR-CALDESC:In House Concert
X-WR-RELCALID:84cda792da02730cdf9fbac6b693e2b6
X-WR-TIMEZONE:America/Anchorage
BEGIN:VTIMEZONE
TZID:America/Anchorage
BEGIN:STANDARD
TZNAME:AKST
DTSTART:20241103T020000
TZOFFSETFROM:-0800
TZOFFSETTO:-0900
RDATE:20251102T020000
RDATE:20261101T020000
END:STANDARD
BEGIN:DAYLIGHT
TZNAME:AKDT
DTSTART:20250309T020000
TZOFFSETFROM:-0900
TZOFFSETTO:-0800
RDATE:20260308T020000
END:DAYLIGHT
END:VTIMEZONE
BEGIN:VEVENT
UID:d1c6cf68-4d48-4ee3-8592-b081b0e178a8
DTSTAMP:20260422T213514Z
DESCRIPTION:In House Concert
DTSTART;TZID=America/Anchorage:20250614T140000
DTEND;TZID=America/Anchorage:20250614T150000
LOCATION:#5 Star Gallery on Ketchikan Creek
SUMMARY:Karis Sea Performance
END:VEVENT
END:VCALENDAR
