BEGIN:VCALENDAR
VERSION:2.0
PRODID:-//www.ketchikanarts.org//NONSGML kigkonsult.se iCalcreator 2.30.10/
 /
CALSCALE:GREGORIAN
METHOD:PUBLISH
UID:a83cb566-4be7-4e87-8e4e-0351b507fa14
X-WR-CALDESC:Join Summer SLAM in its New Location at the Alaska Legends Cid
 er & Wine on Dock Street. \n\nThe theme for June is....'Proud'!\n\n$3 at t
 he door.
X-WR-RELCALID:8f093e112cf5bbf295f1a6445163cfcf
X-WR-TIMEZONE:America/Anchorage
BEGIN:VTIMEZONE
TZID:America/Anchorage
BEGIN:STANDARD
TZNAME:AKST
DTSTART:20241103T020000
TZOFFSETFROM:-0800
TZOFFSETTO:-0900
RDATE:20251102T020000
RDATE:20261101T020000
END:STANDARD
BEGIN:DAYLIGHT
TZNAME:AKDT
DTSTART:20250309T020000
TZOFFSETFROM:-0900
TZOFFSETTO:-0800
RDATE:20260308T020000
END:DAYLIGHT
END:VTIMEZONE
BEGIN:VEVENT
UID:f245bc12-9a5e-4d4d-8e2c-cbe4daf0d340
DTSTAMP:20260422T200404Z
DESCRIPTION:Join Summer SLAM in its New Location at the Alaska Legends Cide
 r & Wine on Dock Street. \n\nThe theme for June is....'Proud'!\n\n$3 at th
 e door.
DTSTART;TZID=America/Anchorage:20250610T190000
DTEND;TZID=America/Anchorage:20250610T210000
LOCATION:*NEW LOCATION* Alaska Legends Cider & Wine
SUMMARY:Summer SLAM!
END:VEVENT
END:VCALENDAR
