BEGIN:VCALENDAR
VERSION:2.0
PRODID:-//www.ketchikanarts.org//NONSGML kigkonsult.se iCalcreator 2.30.10/
 /
CALSCALE:GREGORIAN
METHOD:PUBLISH
UID:cf8d8f11-2917-48e2-adf0-238cb00381f2
X-WR-CALDESC:Try out for Ketchikan's original melodrama - the Fish Pirate's
  Daughter!!! \n\nNo need to prepare anything\, no need to sign up ahead of
  time - just come as you are!\n\nPerformance dates July 11th\, 12th\, 18th
 \, and 19th.
X-WR-RELCALID:5367cc68aa9076922dd4c643a6c782b9
X-WR-TIMEZONE:America/Anchorage
BEGIN:VTIMEZONE
TZID:America/Anchorage
BEGIN:STANDARD
TZNAME:AKST
DTSTART:20241103T020000
TZOFFSETFROM:-0800
TZOFFSETTO:-0900
RDATE:20251102T020000
RDATE:20261101T020000
END:STANDARD
BEGIN:DAYLIGHT
TZNAME:AKDT
DTSTART:20250309T020000
TZOFFSETFROM:-0900
TZOFFSETTO:-0800
RDATE:20260308T020000
END:DAYLIGHT
END:VTIMEZONE
BEGIN:VEVENT
UID:9cf76e6c-4078-41c5-b236-d9a7a172ef66
DTSTAMP:20260424T084223Z
DESCRIPTION:Try out for Ketchikan's original melodrama - the Fish Pirate's 
 Daughter!!! \n\nNo need to prepare anything\, no need to sign up ahead of 
 time - just come as you are!\n\nPerformance dates July 11th\, 12th\, 18th\
 , and 19th.
DTSTART;TZID=America/Anchorage:20250610T190000
DTEND;TZID=America/Anchorage:20250610T210000
LOCATION:FCP Office - 335 Main Street
SUMMARY:Auditions for Fish Pirate's Daughter - First City Players
END:VEVENT
END:VCALENDAR
