BEGIN:VCALENDAR
VERSION:2.0
PRODID:-//www.ketchikanarts.org//NONSGML kigkonsult.se iCalcreator 2.30.10/
 /
CALSCALE:GREGORIAN
METHOD:PUBLISH
UID:48998591-0267-4534-8467-c06c989766c1
X-WR-CALDESC:Family Friendly fun!!!! $25 donation goes to help the activiti
 es of Kayhi Cheerleaders! \n\nWOO HOO!!!!
X-WR-RELCALID:60b34ffedbe346444915cabfb19f47f3
X-WR-TIMEZONE:America/Anchorage
BEGIN:VTIMEZONE
TZID:America/Anchorage
BEGIN:STANDARD
TZNAME:AKST
DTSTART:20241103T020000
TZOFFSETFROM:-0800
TZOFFSETTO:-0900
RDATE:20251102T020000
RDATE:20261101T020000
END:STANDARD
BEGIN:DAYLIGHT
TZNAME:AKDT
DTSTART:20250309T020000
TZOFFSETFROM:-0900
TZOFFSETTO:-0800
RDATE:20260308T020000
END:DAYLIGHT
END:VTIMEZONE
BEGIN:VEVENT
UID:f15b6986-60ac-48ef-b016-44963eb1bd7a
DTSTAMP:20260422T200453Z
DESCRIPTION:Family Friendly fun!!!! $25 donation goes to help the activitie
 s of Kayhi Cheerleaders! \n\nWOO HOO!!!!
DTSTART;TZID=America/Anchorage:20250607T180000
DTEND;TZID=America/Anchorage:20250607T210000
LOCATION:Knudsen Cove Marina
SUMMARY:Line Dancing on the Dock!!!
END:VEVENT
END:VCALENDAR
