BEGIN:VCALENDAR
VERSION:2.0
PRODID:-//www.ketchikanarts.org//NONSGML kigkonsult.se iCalcreator 2.30.10/
 /
CALSCALE:GREGORIAN
METHOD:PUBLISH
UID:d3a31195-f9d9-4047-ab93-4f707be18367
X-WR-CALDESC:
X-WR-RELCALID:feb7b9558b4c3d7b43d959149bbd434f
X-WR-TIMEZONE:America/Anchorage
BEGIN:VTIMEZONE
TZID:America/Anchorage
BEGIN:STANDARD
TZNAME:AKST
DTSTART:20241103T020000
TZOFFSETFROM:-0800
TZOFFSETTO:-0900
RDATE:20251102T020000
RDATE:20261101T020000
END:STANDARD
BEGIN:DAYLIGHT
TZNAME:AKDT
DTSTART:20250309T020000
TZOFFSETFROM:-0900
TZOFFSETTO:-0800
RDATE:20260308T020000
END:DAYLIGHT
END:VTIMEZONE
BEGIN:VEVENT
UID:6bdcd6cf-32f5-48b8-abe7-af9df3d169c7
DTSTAMP:20260422T214741Z
DESCRIPTION:
DTSTART;TZID=America/Anchorage:20250605T180000
DTEND;TZID=America/Anchorage:20250605T200000
LOCATION:Alaska Fish House
SUMMARY:Sea Shanties with Greg Thomas and Friends
END:VEVENT
END:VCALENDAR
