BEGIN:VCALENDAR
VERSION:2.0
PRODID:-//www.ketchikanarts.org//NONSGML kigkonsult.se iCalcreator 2.30.10/
 /
CALSCALE:GREGORIAN
METHOD:PUBLISH
UID:a53d50a7-d5f5-4c77-bc0f-01acc28f493b
X-WR-CALDESC:There are only 16 booths available - don't delay!
X-WR-RELCALID:146c871da1c00f96201a8098c88a828c
X-WR-TIMEZONE:America/Anchorage
BEGIN:VTIMEZONE
TZID:America/Anchorage
BEGIN:STANDARD
TZNAME:AKST
DTSTART:20241103T020000
TZOFFSETFROM:-0800
TZOFFSETTO:-0900
RDATE:20251102T020000
RDATE:20261101T020000
END:STANDARD
BEGIN:DAYLIGHT
TZNAME:AKDT
DTSTART:20250309T020000
TZOFFSETFROM:-0900
TZOFFSETTO:-0800
RDATE:20260308T020000
END:DAYLIGHT
END:VTIMEZONE
BEGIN:VEVENT
UID:74703605-6d01-4d26-92b7-05d478363a34
DTSTAMP:20260424T115740Z
DESCRIPTION:There are only 16 booths available - don't delay!
DTSTART;TZID=America/Anchorage:20250530T090000
DTEND;TZID=America/Anchorage:20250530T180000
LOCATION:
SUMMARY:'We Belong Block Party' - Booth Applications
END:VEVENT
END:VCALENDAR
