BEGIN:VCALENDAR
VERSION:2.0
PRODID:-//www.ketchikanarts.org//NONSGML kigkonsult.se iCalcreator 2.30.10/
 /
CALSCALE:GREGORIAN
METHOD:PUBLISH
UID:cae906cd-acde-43fc-b55f-df08f6b767fc
X-WR-CALDESC:
X-WR-RELCALID:bdaad725e0a71db5d8b28338bb03d844
X-WR-TIMEZONE:America/Anchorage
BEGIN:VTIMEZONE
TZID:America/Anchorage
BEGIN:STANDARD
TZNAME:AKST
DTSTART:20241103T020000
TZOFFSETFROM:-0800
TZOFFSETTO:-0900
RDATE:20251102T020000
RDATE:20261101T020000
END:STANDARD
BEGIN:DAYLIGHT
TZNAME:AKDT
DTSTART:20250309T020000
TZOFFSETFROM:-0900
TZOFFSETTO:-0800
RDATE:20260308T020000
END:DAYLIGHT
END:VTIMEZONE
BEGIN:VEVENT
UID:51665198-ce53-4d85-803e-23fe62c4fdea
DTSTAMP:20260424T114726Z
DESCRIPTION:
DTSTART;TZID=America/Anchorage:20250529T020000
DTEND;TZID=America/Anchorage:20250529T020001
LOCATION:
SUMMARY:Last Day of School
END:VEVENT
END:VCALENDAR
