BEGIN:VCALENDAR
VERSION:2.0
PRODID:-//www.ketchikanarts.org//NONSGML kigkonsult.se iCalcreator 2.30.10/
 /
CALSCALE:GREGORIAN
METHOD:PUBLISH
UID:fa595968-8c1e-4c36-a955-6cef1e3982bc
X-WR-CALDESC:So many excellent musicians all in one place at one time!!!!\n
 \n$5 at the door
X-WR-RELCALID:e4052fd098bb1766bdf85c784ad3bb7a
X-WR-TIMEZONE:America/Anchorage
BEGIN:VTIMEZONE
TZID:America/Anchorage
BEGIN:STANDARD
TZNAME:AKST
DTSTART:20241103T020000
TZOFFSETFROM:-0800
TZOFFSETTO:-0900
RDATE:20251102T020000
RDATE:20261101T020000
END:STANDARD
BEGIN:DAYLIGHT
TZNAME:AKDT
DTSTART:20250309T020000
TZOFFSETFROM:-0900
TZOFFSETTO:-0800
RDATE:20260308T020000
END:DAYLIGHT
END:VTIMEZONE
BEGIN:VEVENT
UID:427d5da9-f2bf-4d0c-b393-4d1b220eccb5
DTSTAMP:20260424T115756Z
DESCRIPTION:So many excellent musicians all in one place at one time!!!!\n
 \n$5 at the door
DTSTART;TZID=America/Anchorage:20250529T193000
DTEND;TZID=America/Anchorage:20250529T233000
LOCATION:Creek Street Cabaret
SUMMARY:DEBUT PERFORMANCE! Buoy Daze @ the Creek Street Cabaret
END:VEVENT
END:VCALENDAR
