BEGIN:VCALENDAR
VERSION:2.0
PRODID:-//www.ketchikanarts.org//NONSGML kigkonsult.se iCalcreator 2.30.10/
 /
CALSCALE:GREGORIAN
METHOD:PUBLISH
UID:c1f82bee-63d0-4170-9b99-ba44ddf26470
X-WR-CALDESC:If you are participating in the Ketchikan Invitational Exhibit
 :\nArtwork must be ready to hang or display by May 29\, 2025. If there are
  special\, hanging requirements/requests please let us know as soon as pos
 sible. Please allow time at drop off to fill out a title card\, which incl
 udes the exhibit copy artist\, title of work\, price\, materials/medium an
 d size (w x h x d) including weight.
X-WR-RELCALID:6bc4ab719bde0ffac02e3c2957e8b96a
X-WR-TIMEZONE:America/Anchorage
BEGIN:VTIMEZONE
TZID:America/Anchorage
BEGIN:STANDARD
TZNAME:AKST
DTSTART:20241103T020000
TZOFFSETFROM:-0800
TZOFFSETTO:-0900
RDATE:20251102T020000
RDATE:20261101T020000
END:STANDARD
BEGIN:DAYLIGHT
TZNAME:AKDT
DTSTART:20250309T020000
TZOFFSETFROM:-0900
TZOFFSETTO:-0800
RDATE:20260308T020000
END:DAYLIGHT
END:VTIMEZONE
BEGIN:VEVENT
UID:df16fafc-8e4c-43e2-a3df-51e6b16c8196
DTSTAMP:20260424T115728Z
DESCRIPTION:If you are participating in the Ketchikan Invitational Exhibit:
 \nArtwork must be ready to hang or display by May 29\, 2025. If there are 
 special\, hanging requirements/requests please let us know as soon as poss
 ible. Please allow time at drop off to fill out a title card\, which inclu
 des the exhibit copy artist\, title of work\, price\, materials/medium and
  size (w x h x d) including weight.
DTSTART;TZID=America/Anchorage:20250529T090000
DTEND;TZID=America/Anchorage:20250529T170000
LOCATION:330 Main Street Gallery\, Ketchikan\, AK
SUMMARY:Artists of Ketchikan Invitational - Art Work Due Date
END:VEVENT
END:VCALENDAR
