BEGIN:VCALENDAR
VERSION:2.0
PRODID:-//www.ketchikanarts.org//NONSGML kigkonsult.se iCalcreator 2.30.10/
 /
CALSCALE:GREGORIAN
METHOD:PUBLISH
UID:6bf754ae-cfd8-4122-850d-a6485dc8aab0
X-WR-CALDESC:Celebrating 49 years on the air - KRBD's LIVE DAY is a celebra
 tion of Ketchikan's resilience\, creativity\, community spirit and Can Do 
 attitude!!! Plus\, its just fun to listen to LIVE Day!!!\n\nKRBD is lookin
 g for musicians\, singers\, poets\, comics - anyone who wants their 15 min
 utes of fame on the radio!!! Contact Mike Gates by May 21st to sign up!!! 
 Mike@KRBD.org   907-225-9655
X-WR-RELCALID:162e9ad3e55985c3b8b83ddf0e0ac8e8
X-WR-TIMEZONE:America/Anchorage
BEGIN:VTIMEZONE
TZID:America/Anchorage
BEGIN:STANDARD
TZNAME:AKST
DTSTART:20241103T020000
TZOFFSETFROM:-0800
TZOFFSETTO:-0900
RDATE:20251102T020000
RDATE:20261101T020000
END:STANDARD
BEGIN:DAYLIGHT
TZNAME:AKDT
DTSTART:20250309T020000
TZOFFSETFROM:-0900
TZOFFSETTO:-0800
RDATE:20260308T020000
END:DAYLIGHT
END:VTIMEZONE
BEGIN:VEVENT
UID:fb3e4102-dea1-47e2-91bc-bdc52617e535
DTSTAMP:20260424T113759Z
DESCRIPTION:Celebrating 49 years on the air - KRBD's LIVE DAY is a celebrat
 ion of Ketchikan's resilience\, creativity\, community spirit and Can Do a
 ttitude!!! Plus\, its just fun to listen to LIVE Day!!!\n\nKRBD is looking
  for musicians\, singers\, poets\, comics - anyone who wants their 15 minu
 tes of fame on the radio!!! Contact Mike Gates by May 21st to sign up!!! M
 ike@KRBD.org   907-225-9655
DTSTART;TZID=America/Anchorage:20250524T120000
DTEND;TZID=America/Anchorage:20250524T160000
LOCATION:KRBD Ketchikan!
SUMMARY:KRBD LIVE DAY!!!!
END:VEVENT
END:VCALENDAR
