BEGIN:VCALENDAR
VERSION:2.0
PRODID:-//www.ketchikanarts.org//NONSGML kigkonsult.se iCalcreator 2.30.10/
 /
CALSCALE:GREGORIAN
METHOD:PUBLISH
UID:bd6db2a5-d47b-479e-8baa-ec733c5f4143
X-WR-CALDESC:Stay tuned for more info!
X-WR-RELCALID:9b1ed6714a11a0251610bf0caba8316b
X-WR-TIMEZONE:America/Anchorage
BEGIN:VTIMEZONE
TZID:America/Anchorage
BEGIN:STANDARD
TZNAME:AKST
DTSTART:20241103T020000
TZOFFSETFROM:-0800
TZOFFSETTO:-0900
RDATE:20251102T020000
RDATE:20261101T020000
END:STANDARD
BEGIN:DAYLIGHT
TZNAME:AKDT
DTSTART:20250309T020000
TZOFFSETFROM:-0900
TZOFFSETTO:-0800
RDATE:20260308T020000
END:DAYLIGHT
END:VTIMEZONE
BEGIN:VEVENT
UID:f4228ced-dfaa-436e-aec9-ac6ff8668ddb
DTSTAMP:20260424T114730Z
DESCRIPTION:Stay tuned for more info!
DTSTART;TZID=America/Anchorage:20250517T143000
DTEND;TZID=America/Anchorage:20250517T160000
LOCATION:Kayhi Auditorium
SUMMARY:Ketchikan Theatre Ballet - Spring Gala
END:VEVENT
END:VCALENDAR
