BEGIN:VCALENDAR
VERSION:2.0
PRODID:-//www.ketchikanarts.org//NONSGML kigkonsult.se iCalcreator 2.30.10/
 /
CALSCALE:GREGORIAN
METHOD:PUBLISH
UID:09d82f0e-6a94-45c6-974a-1dd436f9088e
X-WR-CALDESC:
X-WR-RELCALID:674fc1520f95de73be79935a29e0d9e2
X-WR-TIMEZONE:America/Anchorage
BEGIN:VTIMEZONE
TZID:America/Anchorage
BEGIN:STANDARD
TZNAME:AKST
DTSTART:20241103T020000
TZOFFSETFROM:-0800
TZOFFSETTO:-0900
RDATE:20251102T020000
RDATE:20261101T020000
END:STANDARD
BEGIN:DAYLIGHT
TZNAME:AKDT
DTSTART:20250309T020000
TZOFFSETFROM:-0900
TZOFFSETTO:-0800
RDATE:20260308T020000
END:DAYLIGHT
END:VTIMEZONE
BEGIN:VEVENT
UID:8bd66ca7-ee98-4670-b0c7-37f21c667fe7
DTSTAMP:20260424T114843Z
DESCRIPTION:
DTSTART;TZID=America/Anchorage:20250517T193000
DTEND;TZID=America/Anchorage:20250517T210000
LOCATION:Kayhi Auditorium
SUMMARY:Ketchikan Theatre Ballet - Spring Gala
END:VEVENT
END:VCALENDAR
