BEGIN:VCALENDAR
VERSION:2.0
PRODID:-//www.ketchikanarts.org//NONSGML kigkonsult.se iCalcreator 2.30.10/
 /
CALSCALE:GREGORIAN
METHOD:PUBLISH
UID:a0cae436-b69b-4b05-9735-2a07e192b540
X-WR-CALDESC:Woo Hoo!!!
X-WR-RELCALID:8f35f0911cc63531333c8430da51888e
X-WR-TIMEZONE:America/Anchorage
BEGIN:VTIMEZONE
TZID:America/Anchorage
BEGIN:STANDARD
TZNAME:AKST
DTSTART:20241103T020000
TZOFFSETFROM:-0800
TZOFFSETTO:-0900
RDATE:20251102T020000
RDATE:20261101T020000
END:STANDARD
BEGIN:DAYLIGHT
TZNAME:AKDT
DTSTART:20250309T020000
TZOFFSETFROM:-0900
TZOFFSETTO:-0800
RDATE:20260308T020000
END:DAYLIGHT
END:VTIMEZONE
BEGIN:VEVENT
UID:dbf148cb-1867-4328-bbdc-931650bf7cee
DTSTAMP:20260424T114842Z
DESCRIPTION:Woo Hoo!!!
DTSTART;TZID=America/Anchorage:20250516T210000
DTEND;TZID=America/Anchorage:20250517T000000
LOCATION:Arctic Bar
SUMMARY:Pop Up Pride Bar - Ketchikan Pride Alliance
END:VEVENT
END:VCALENDAR
