BEGIN:VCALENDAR
VERSION:2.0
PRODID:-//www.ketchikanarts.org//NONSGML kigkonsult.se iCalcreator 2.30.10/
 /
CALSCALE:GREGORIAN
METHOD:PUBLISH
UID:fe1e956e-50f1-4d71-89b6-5e7d7149e68f
X-WR-CALDESC:Its a celebration of America's landscapes!
X-WR-RELCALID:dc8dd2d7fa87f47f31387c27ed64afb9
X-WR-TIMEZONE:America/Anchorage
BEGIN:VTIMEZONE
TZID:America/Anchorage
BEGIN:STANDARD
TZNAME:AKST
DTSTART:20241103T020000
TZOFFSETFROM:-0800
TZOFFSETTO:-0900
RDATE:20251102T020000
RDATE:20261101T020000
END:STANDARD
BEGIN:DAYLIGHT
TZNAME:AKDT
DTSTART:20250309T020000
TZOFFSETFROM:-0900
TZOFFSETTO:-0800
RDATE:20260308T020000
END:DAYLIGHT
END:VTIMEZONE
BEGIN:VEVENT
UID:5cb0ab6b-00e6-43a7-8ef7-a83ac3be8ae3
DTSTAMP:20260424T115316Z
DESCRIPTION:Its a celebration of America's landscapes!
DTSTART;TZID=America/Anchorage:20250516T193000
DTEND;TZID=America/Anchorage:20250516T210000
LOCATION:Kayhi Auditorium
SUMMARY:Ketchikan Theatre Ballet - Spring Gala
END:VEVENT
END:VCALENDAR
