BEGIN:VCALENDAR
VERSION:2.0
PRODID:-//www.ketchikanarts.org//NONSGML kigkonsult.se iCalcreator 2.30.10/
 /
CALSCALE:GREGORIAN
METHOD:PUBLISH
UID:2f4c1de9-5d1b-42d8-8ad8-80c3876b3840
X-WR-CALDESC:
X-WR-RELCALID:79fe9a7509b7b4f853503371eaf6f0b2
X-WR-TIMEZONE:America/Anchorage
BEGIN:VTIMEZONE
TZID:America/Anchorage
BEGIN:STANDARD
TZNAME:AKST
DTSTART:20241103T020000
TZOFFSETFROM:-0800
TZOFFSETTO:-0900
RDATE:20251102T020000
RDATE:20261101T020000
END:STANDARD
BEGIN:DAYLIGHT
TZNAME:AKDT
DTSTART:20250309T020000
TZOFFSETFROM:-0900
TZOFFSETTO:-0800
RDATE:20260308T020000
END:DAYLIGHT
END:VTIMEZONE
BEGIN:VEVENT
UID:d6dbba7b-7bf9-4c83-b539-72152ebd8a80
DTSTAMP:20260424T120500Z
DESCRIPTION:
DTSTART;TZID=America/Anchorage:20250511T140000
DTEND;TZID=America/Anchorage:20250511T153000
LOCATION:Kayhi Auditorium
SUMMARY:Wizard of Oz - Kayhi Drama Kings
END:VEVENT
END:VCALENDAR
