BEGIN:VCALENDAR
VERSION:2.0
PRODID:-//www.ketchikanarts.org//NONSGML kigkonsult.se iCalcreator 2.30.10/
 /
CALSCALE:GREGORIAN
METHOD:PUBLISH
UID:4f036980-9bd4-42c5-a5ff-032a0a0fd1ab
X-WR-CALDESC:
X-WR-RELCALID:2de722f006f4c53efbd37b8c26e76bd0
X-WR-TIMEZONE:America/Anchorage
BEGIN:VTIMEZONE
TZID:America/Anchorage
BEGIN:STANDARD
TZNAME:AKST
DTSTART:20241103T020000
TZOFFSETFROM:-0800
TZOFFSETTO:-0900
RDATE:20251102T020000
RDATE:20261101T020000
END:STANDARD
BEGIN:DAYLIGHT
TZNAME:AKDT
DTSTART:20250309T020000
TZOFFSETFROM:-0900
TZOFFSETTO:-0800
RDATE:20260308T020000
END:DAYLIGHT
END:VTIMEZONE
BEGIN:VEVENT
UID:381ae26b-96a6-4bc4-9757-4af924e3914b
DTSTAMP:20260424T115901Z
DESCRIPTION:
DTSTART;TZID=America/Anchorage:20250510T140000
DTEND;TZID=America/Anchorage:20250510T153000
LOCATION:Kayhi Auditorium
SUMMARY:Wizard of Oz - Kayhi Drama Kings
END:VEVENT
END:VCALENDAR
