BEGIN:VCALENDAR
VERSION:2.0
PRODID:-//www.ketchikanarts.org//NONSGML kigkonsult.se iCalcreator 2.30.10/
 /
CALSCALE:GREGORIAN
METHOD:PUBLISH
UID:59e8e793-8bc4-4aa6-8a2d-d8e24a358ab4
X-WR-CALDESC:Who doesn't love a little axe throwing with their pancakes?
X-WR-RELCALID:07f368cd86302bdfaea991ec154319c3
X-WR-TIMEZONE:America/Anchorage
BEGIN:VTIMEZONE
TZID:America/Anchorage
BEGIN:STANDARD
TZNAME:AKST
DTSTART:20241103T020000
TZOFFSETFROM:-0800
TZOFFSETTO:-0900
RDATE:20251102T020000
RDATE:20261101T020000
END:STANDARD
BEGIN:DAYLIGHT
TZNAME:AKDT
DTSTART:20250309T020000
TZOFFSETFROM:-0900
TZOFFSETTO:-0800
RDATE:20260308T020000
END:DAYLIGHT
END:VTIMEZONE
BEGIN:VEVENT
UID:3506acdb-4054-4275-99d4-caf39f35903b
DTSTAMP:20260424T114913Z
DESCRIPTION:Who doesn't love a little axe throwing with their pancakes?
DTSTART;TZID=America/Anchorage:20250510T100000
DTEND;TZID=America/Anchorage:20250510T120000
LOCATION:420 Spruce Mill Way - Great Alaskan Lumberjack Arena
SUMMARY:Pancake Breakfast!!! - Great Alaska Lumberjack Show's 25th Annivers
 ary!!!!
END:VEVENT
END:VCALENDAR
