BEGIN:VCALENDAR
VERSION:2.0
PRODID:-//www.ketchikanarts.org//NONSGML kigkonsult.se iCalcreator 2.30.10/
 /
CALSCALE:GREGORIAN
METHOD:PUBLISH
UID:d79e5b01-3370-4c75-b08b-a330025d3f1b
X-WR-CALDESC:Never line danced before? This might just be the chance to lea
 rn!!!! $5 at the door!
X-WR-RELCALID:ca103037a44b01fa191eeedabd1efd13
X-WR-TIMEZONE:America/Anchorage
BEGIN:VTIMEZONE
TZID:America/Anchorage
BEGIN:STANDARD
TZNAME:AKST
DTSTART:20241103T020000
TZOFFSETFROM:-0800
TZOFFSETTO:-0900
RDATE:20251102T020000
RDATE:20261101T020000
END:STANDARD
BEGIN:DAYLIGHT
TZNAME:AKDT
DTSTART:20250309T020000
TZOFFSETFROM:-0900
TZOFFSETTO:-0800
RDATE:20260308T020000
END:DAYLIGHT
END:VTIMEZONE
BEGIN:VEVENT
UID:cd0b4639-4a99-41e0-b30f-fcc6fcf6ceae
DTSTAMP:20260424T113832Z
DESCRIPTION:Never line danced before? This might just be the chance to lear
 n!!!! $5 at the door!
DTSTART;TZID=America/Anchorage:20250503T180000
DTEND;TZID=America/Anchorage:20250503T210000
LOCATION:Creek Street Cabaret!
SUMMARY:Line Dancing!!!
END:VEVENT
END:VCALENDAR
