BEGIN:VCALENDAR
VERSION:2.0
PRODID:-//www.ketchikanarts.org//NONSGML kigkonsult.se iCalcreator 2.30.10/
 /
CALSCALE:GREGORIAN
METHOD:PUBLISH
UID:8d3e144c-878f-4d42-8a05-8103781650bc
X-WR-CALDESC:You can drop the kids off at Ketchikan Theatre Ballet and head
  out to the Celebration of the Sea Art! Kids will a variety of activities 
 to participate in!!! Dinner provided!
X-WR-RELCALID:a6a97a06b06a3502d2d2db4b2ad2e73b
X-WR-TIMEZONE:America/Anchorage
BEGIN:VTIMEZONE
TZID:America/Anchorage
BEGIN:STANDARD
TZNAME:AKST
DTSTART:20241103T020000
TZOFFSETFROM:-0800
TZOFFSETTO:-0900
RDATE:20251102T020000
RDATE:20261101T020000
END:STANDARD
BEGIN:DAYLIGHT
TZNAME:AKDT
DTSTART:20250309T020000
TZOFFSETFROM:-0900
TZOFFSETTO:-0800
RDATE:20260308T020000
END:DAYLIGHT
END:VTIMEZONE
BEGIN:VEVENT
UID:5d459a3a-d458-4141-9f01-b6d429fc7041
DTSTAMP:20260424T115913Z
DESCRIPTION:You can drop the kids off at Ketchikan Theatre Ballet and head 
 out to the Celebration of the Sea Art! Kids will a variety of activities t
 o participate in!!! Dinner provided!
DTSTART;TZID=America/Anchorage:20250502T170000
DTEND;TZID=America/Anchorage:20250502T200000
LOCATION:400 Mission St. Ste 205
SUMMARY:Kids' Night Out - Ketchiakn Theatre Ballet
END:VEVENT
END:VCALENDAR
